BEGIN:VCALENDAR
VERSION:2.0
PRODID:-//Contratero//ES
CALSCALE:GREGORIAN
METHOD:PUBLISH
BEGIN:VEVENT
UID:17/24 AM-B@contratero.es
DTSTAMP:20260423T071137Z
DTSTART:20241129T235959
DTEND:20241130T005959
SUMMARY:Cierre: Contratación basada alta de nueva suscripción de c
DESCRIPTION:Contratación basada alta de nueva suscripción de copias de seguridad de 2 unidades de Veeam Data Platform Essentials Universal\\n\\nOrganismo: Construcciones e Infraestructuras Educativas de la Generalitat Valenciana S.A.\\n\\nVer en Contratero: https://contratero.es/contracts/17/24 AM-B
URL:https://contratero.es/contracts/17/24 AM-B
STATUS:CONFIRMED
BEGIN:VALARM
TRIGGER:-P1D
ACTION:DISPLAY
DESCRIPTION:Recordatorio: Contratación basada alta de nu
END:VALARM
END:VEVENT
END:VCALENDAR